BEGIN:VCALENDAR
PRODID:NingEventWidget-v1
VERSION:2.0
METHOD:PUBLISH
BEGIN:VEVENT
UID:5167423:Event:332422
DTSTAMP:20260425T222640Z
SUMMARY:Tunkhannock Walmart Car Show
DESCRIPTION:Tunkhannock Walmart is holding a Car Show on Saturday Augu
 st 24, 2024 from 4pm until 8pm. This event is just getting started and
  has some really cool things in the works. Please keep an eye on this 
 event for more details to be added very soon!!\r\n\r\nAbout NEPA Cars 
 and Coffee, We hold events at different locations in Northeast Pa. and
  some New York locations. Come out and join us at any event! Mopars to
  Mopeds! All are welcome! \r\nhttps://www.facebook.com/NEPAcarsandcoff
 ee;\n\nFor more information visit https://northeastwheelsevents.com/ev
 ents/tunkhannock-walmart-car-show
DTSTART:20240824T200000Z
DTEND:20240825T000000Z
CATEGORIES:cruisein
LOCATION:Walmart Tunkhannock parking Lot
WEBSITE:https://www.facebook.com/events/walmart-tunkhannock/tunkhannoc
 k-walmart-car-show/282248278307720/
URL:https://www.facebook.com/events/walmart-tunkhannock/tunkhannock-wa
 lmart-car-show/282248278307720/
CONTACT:570-836-8064
ORGANIZER:NEPA Cars and Coffee
ATTACH;FMTTYPE="image/jpeg":https://storage.ning.com/topology/rest/1.0
 /file/get/12810743665?profile=original
ATTENDEE;ROLE=REQ-PARTICIPANT;PARTSTAT=ACCEPTED;RSVP=TRUE;CN="William 
 Bruce":https://northeastwheelsevents.com/profile/WilliamBruce
END:VEVENT
END:VCALENDAR
