BEGIN:VCALENDAR
PRODID:NingEventWidget-v1
VERSION:2.0
METHOD:PUBLISH
BEGIN:VEVENT
UID:5167423:Event:64613
DTSTAMP:20260419T130916Z
SUMMARY:TWO for ONE Thursday
DESCRIPTION:TWO for ONE Thursday - BOGO (Buy One Get One)\n\nFor more 
 information visit https://northeastwheelsevents.com/events/two-for-one
 -thursday-1
DTSTART:20150226T150000Z
DTEND:20150226T200000Z
CATEGORIES:cars, museum, bogo, family, seniors, kids
LOCATION:America On Wheels
WEBSITE:http://americaonwheels.org/
URL:http://americaonwheels.org/
CONTACT:610-432-4200
ORGANIZER;CN="America On Wheels Museum":https://northeastwheelsevents.
 com/profile/americaonwheels
ATTACH;FMTTYPE="image/jpeg":http://storage.ning.com/topology/rest/1.0/
 file/get/2284065500?profile=original
ATTENDEE;ROLE=REQ-PARTICIPANT;PARTSTAT=ACCEPTED;RSVP=TRUE;CN="America 
 On Wheels Museum":https://northeastwheelsevents.com/profile/americaonw
 heels
END:VEVENT
END:VCALENDAR
