BEGIN:VCALENDAR
PRODID:NingEventWidget-v1
VERSION:2.0
METHOD:PUBLISH
BEGIN:VEVENT
UID:5167423:Event:335193
DTSTAMP:20260422T115005Z
SUMMARY:Two-Wheel Tuesdays
DESCRIPTION:Join us for Bike Nights every Tuesday 4-9pm!\n\nFor more i
 nformation visit https://northeastwheelsevents.com/events/two-wheel-tu
 esdays
DTSTART:20241022T200000Z
DTEND:20241023T010000Z
CATEGORIES:cruise-in
LOCATION:Connecticut Valley Brewing Company
WEBSITE:https://allevents.in/south%20windsor/two-wheel-tuesdays/200026
 994724444
URL:https://allevents.in/south%20windsor/two-wheel-tuesdays/2000269947
 24444
CONTACT:860-644-2707
ORGANIZER:Connecticut Valley Brewing Company
ATTACH;FMTTYPE="image/jpeg":https://storage.ning.com/topology/rest/1.0
 /file/get/13029408079?profile=original
ATTENDEE;ROLE=REQ-PARTICIPANT;PARTSTAT=ACCEPTED;RSVP=TRUE;CN="William 
 Bruce":https://northeastwheelsevents.com/profile/WilliamBruce
END:VEVENT
END:VCALENDAR
