BEGIN:VCALENDAR
PRODID:NingEventWidget-v1
VERSION:2.0
METHOD:PUBLISH
BEGIN:VEVENT
UID:5167423:Event:73832
DTSTAMP:20260422T045307Z
SUMMARY:TYOGA County Motor Club's Thursday  Cruise In - Mansfield, PA
DESCRIPTION:\n\n\n   \nTYOGA COUNTY MOTOR CLUB, Tioga County, PA\n\
 n\n\n\n\n\n\nMANSFIELD CRUISE-IN, Every Thursday 5:30 - 8:30 - First 
 Citizens Bank, Route 6 & Main St, Mansfield. Beginning THURSDAY April 
 30th thru October !!!!  OUR CRUISE NIGHT FLYER is attached.  PLEA
 SE PRINT OUT OUR CRUISE IN FLIER AND SHARE WITH YOUR FRIENDS (attached
 ).\n\nFor more information visit https://northeastwheelsevents.com/eve
 nts/tyoga-county-motor-club-s-thursday-cruise-in-mansfield-pa
DTSTART:20150514T213000Z
DTEND:20150515T003000Z
CATEGORIES:cruise, in, every, thursday, night
LOCATION:First Citizens Bank
WEBSITE:http://dz8190.wix.com/tyogamotorclub/
URL:http://dz8190.wix.com/tyogamotorclub/
CONTACT:570 723-3114
ORGANIZER;CN="David Zavetsky":https://northeastwheelsevents.com/profil
 e/DavidZavetsky
ATTACH;FMTTYPE="image/jpeg":http://storage.ning.com/topology/rest/1.0/
 file/get/2160571421?profile=original
ATTENDEE;ROLE=REQ-PARTICIPANT;PARTSTAT=ACCEPTED;RSVP=TRUE;CN="David Za
 vetsky":https://northeastwheelsevents.com/profile/DavidZavetsky
END:VEVENT
END:VCALENDAR
