BEGIN:VCALENDAR
PRODID:NingEventWidget-v1
VERSION:2.0
METHOD:PUBLISH
BEGIN:VEVENT
UID:5167423:Event:60957
DTSTAMP:20260424T014422Z
SUMMARY:Ugly Christmas Sweater Day
DESCRIPTION:Kick off December in style!\nThe AACA Museum is declaring 
 Monday, December 1st, Ugly Christmas Sweater day here at the AACA Muse
 um!    Guests will receive 1/2 off admission all day on December 1s
 t by wearing an ugly Christmas sweater during their visit!\nJust anoth
 er fun activity as part of our Cars & Christmas festivities here at th
 e AACA Museum!\n\nFor more information visit https://northeastwheelsev
 ents.com/events/ugly-christmas-sweater-day
DTSTART:20141201T140000Z
DTEND:20141201T220000Z
CATEGORIES:event
LOCATION:AACA Museum
WEBSITE:http://www.aacamuseum.org/ugly-christmas-sweater-day/
URL:http://www.aacamuseum.org/ugly-christmas-sweater-day/
CONTACT:717-566-7100
ORGANIZER;CN="AACA Museum":https://northeastwheelsevents.com/profile/A
 ACAMuseum553
ATTACH;FMTTYPE="image/jpeg":http://storage.ning.com/topology/rest/1.0/
 file/get/2284064986?profile=original
ATTENDEE;ROLE=REQ-PARTICIPANT;PARTSTAT=ACCEPTED;RSVP=TRUE;CN="AACA Mus
 eum":https://northeastwheelsevents.com/profile/AACAMuseum553
END:VEVENT
END:VCALENDAR
