BEGIN:VCALENDAR
PRODID:NingEventWidget-v1
VERSION:2.0
METHOD:PUBLISH
BEGIN:VEVENT
UID:5167423:Event:124034
DTSTAMP:20260421T193646Z
SUMMARY:UK Car Day VIII Rochester, NY
DESCRIPTION:Open to the public – FREE Spectator admission & parking 
 Popular Choice and Concours Judging Classes Entertainment * Awards * F
 ood & Beverages * Door Prizes * 50/50 Raffle Rain or Shine *  CALL FO
 R COMPLETE INFO\n\nFor more information visit https://northeastwheelse
 vents.com/events/uk-car-day-viii-rochester-ny
DTSTART:20160807T140000Z
DTEND:20160807T200000Z
CATEGORIES:british, car, show
LOCATION:GENESEE VALLEY PARK, Rochester, NY
WEBSITE:http://ukcarday.com/
URL:http://ukcarday.com/
CONTACT:Ned Paulsen  (585) 749-4097, nedpaulsen@aol.com
ORGANIZER:The Greater Rochester Triumph Touring Club And The Webster L
 ions Club
ATTACH;FMTTYPE="image/jpeg":http://storage.ning.com/topology/rest/1.0/
 file/get/2284088977?profile=original
ATTENDEE;ROLE=REQ-PARTICIPANT;PARTSTAT=ACCEPTED;RSVP=TRUE;CN="Pamela H
 irschhorn":https://northeastwheelsevents.com/profile/PamelaHirschhorn
END:VEVENT
END:VCALENDAR
