BEGIN:VCALENDAR
PRODID:NingEventWidget-v1
VERSION:2.0
METHOD:PUBLISH
BEGIN:VEVENT
UID:5167423:Event:17339
DTSTAMP:20260421T074559Z
SUMMARY:UNOH Battle at the Beach
DESCRIPTION:Inaugural UNOH Battle at the Beach during Budweiser Speedw
 eeks at Daytona International Speedway featuring the NASCAR Whelen Mod
 ified Tour\n\nFor more information visit https://northeastwheelsevents
 .com/events/unoh-battle-at-the-beach
DTSTART:20130219T050000Z
DTEND:20130220T045900Z
CATEGORIES:race
LOCATION:Daytona International Speedway
WEBSITE:http://www.daltonbaldwin.com/race-schedule.html
URL:http://www.daltonbaldwin.com/race-schedule.html
CONTACT:
ORGANIZER;CN="MICHELLE BALDWIN":https://northeastwheelsevents.com/prof
 ile/MICHELLEBALDWIN
ATTACH;FMTTYPE="image/jpeg":http://storage.ning.com/topology/rest/1.0/
 file/get/2146888645?profile=original
ATTENDEE;ROLE=REQ-PARTICIPANT;PARTSTAT=ACCEPTED;RSVP=TRUE;CN="MICHELLE
  BALDWIN":https://northeastwheelsevents.com/profile/MICHELLEBALDWIN
END:VEVENT
END:VCALENDAR
