BEGIN:VCALENDAR
PRODID:NingEventWidget-v1
VERSION:2.0
METHOD:PUBLISH
BEGIN:VEVENT
UID:5167423:Event:334430
DTSTAMP:20260422T161940Z
SUMMARY:Untamed Northeast / Cruise To Audrain Cars & Coffee / 9-29-24
DESCRIPTION:MEETING AT NEON IN WARWICK ON THE CORNER OF AIRPORT/POST R
 OAD FOR 7AM AND LEAVING OUT BY 7:15 HEADING TO NEWPORT FOR THE AUDRAIN
  CARS AND COFFEE THATS TAKING PLACE. IT WILL BE ABOUT A 40 MINUTE CRUI
 SE TO GET THERE.  THERE WILL BE ANOTHER CRUISE FROM THIS EVENT WITH TH
 E DESTINATION BEING SOME TYPE OF FOOD SPOT. DETAILS AND A SEPARATE EVE
 NT WILL BE POSTED IN THE COMING WEEK.  SEE YOU ALL SUNDAY MORNING! 9-2
 9-24\r\nWant to know more about Untamed Auto Club? https://www.facebo
 ok.com/UntamedOfficial401/;\r\nCtsvmatt@gmail.com\n\nFor more informat
 ion visit https://northeastwheelsevents.com/events/untamed-northeast-c
 ruise-to-audrain-cars-coffee-9-29-24
DTSTART:20240929T110000Z
DTEND:20240929T230000Z
CATEGORIES:cruisein, carshow
LOCATION:Neon
WEBSITE:https://www.facebook.com/events/1776-post-rd-warwick-ri-02888/
 untamed-northeast-cruise-to-audrain-cars-coffee-9-29-24/29088128332348
 9/
URL:https://www.facebook.com/events/1776-post-rd-warwick-ri-02888/unta
 med-northeast-cruise-to-audrain-cars-coffee-9-29-24/290881283323489/
CONTACT:401-206-2291
ORGANIZER:Untamed Northeast Auto Club
ATTACH;FMTTYPE="image/jpeg":https://storage.ning.com/topology/rest/1.0
 /file/get/12947259266?profile=original
ATTENDEE;ROLE=REQ-PARTICIPANT;PARTSTAT=ACCEPTED;RSVP=TRUE;CN="William 
 Bruce":https://northeastwheelsevents.com/profile/WilliamBruce
END:VEVENT
END:VCALENDAR
