BEGIN:VCALENDAR
PRODID:NingEventWidget-v1
VERSION:2.0
METHOD:PUBLISH
BEGIN:VEVENT
UID:5167423:Event:333835
DTSTAMP:20260423T105450Z
SUMMARY:Untamed Northeast / Cruise To Broke East Meet CT. / 10-13-24
DESCRIPTION:MEETING AT NEON IN WARWICK ON THE CORNER OF AIRPORT/POST R
 OAD FOR 730AM AND LEAVING OUT BY 8AM HEADING TO615 Silver Ln, East Har
 tford, CT. FOR THE BROKE EAST MEET THATS TAKING PLACE.All makes and mo
 dels welcome, enjoy! DETAILS FOR THE EVENT WE ARE CRUISING TO WILL BE
  POSTED TO THIS EVENT PAGE & ARE AS FOLLOWS.\" Welcome to our 2024 #br
 okeEastMeet Season Closer. We are bringing back Dialed Action Sports T
 eam: BMX Stunt Show!Event Schedule:7:00-Vendors/VIP check-in9:00-Gates
  open to public12:00-Dialed Action Sports Team: BMX Stunt Show1:00- Li
 mbo Contest2:00- 2-STEP CONTEST!3:00-Wheel Giveaway Winner announced n
 ear DJKG Booth3:30-Drive home safe!Location:Rentschler Field at Pratt 
 & Whitney Stadium615 Silver Ln, East Hartford, CT 06118As always, THAN
 K YOU all who come out to support & make what we do so enjoyable.-brok
 e.East.\"SEE YOU ALL SUNDAY MORNING! 10-13-24\r\nFor more information 
 about cruise or about club, email: ctsvmatt@gmail.com\n\nFor more info
 rmation visit https://northeastwheelsevents.com/events/untamed-northea
 st-cruise-to-broke-east-meet-ct-10-13-24
DTSTART:20241013T113000Z
DTEND:20241013T230000Z
CATEGORIES:cruise
LOCATION:Neon
WEBSITE:https://allevents.in/warwick/untamed-northeast-cruise-to-broke
 -east-meet-ct-10-13-24/200026934289246
URL:https://allevents.in/warwick/untamed-northeast-cruise-to-broke-eas
 t-meet-ct-10-13-24/200026934289246
CONTACT:401-206-2291
ORGANIZER:Untamed Northeast
ATTACH;FMTTYPE="image/jpeg":https://storage.ning.com/topology/rest/1.0
 /file/get/12907039286?profile=original
ATTENDEE;ROLE=REQ-PARTICIPANT;PARTSTAT=ACCEPTED;RSVP=TRUE;CN="William 
 Bruce":https://northeastwheelsevents.com/profile/WilliamBruce
END:VEVENT
END:VCALENDAR
