BEGIN:VCALENDAR
PRODID:NingEventWidget-v1
VERSION:2.0
METHOD:PUBLISH
BEGIN:VEVENT
UID:5167423:Event:335064
DTSTAMP:20260423T190938Z
SUMMARY:Up Yonda Farm Trunk or Treat
DESCRIPTION:From 3-5pm on Saturday, October 26, 2024 we’ll be host
 ing our annual Trunk or Treat event (rain or shine).Trunk-or-Treat is 
 a free community event.  Donations are accepted.\r\nThere will be ple
 nty of goodies for costumed kids, as well as pumpkin decorating, wildl
 ife exhibitions and free books.\r\nDress up in your Halloween best and
  Trick-or-Treat among decorated vehicles, decorate your own pumpkin, a
 nd check out a live raptor display. This event is open to all ages. Br
 ing your classic Car, Truck or Bike for trunk or treat!  Go to webpag
 e for more info. \n\nFor more information visit https://northeastwhee
 lsevents.com/events/up-yonda-farm-trunk-or-treat
DTSTART:20241026T190000Z
DTEND:20241026T210000Z
CATEGORIES:carshow, festival, trunkortreat
LOCATION:Up Yonda Farm Environmental Education Center
WEBSITE:https://upyondafarm.com/trunk-or-treat/
URL:https://upyondafarm.com/trunk-or-treat/
CONTACT:518-644-9767
ORGANIZER:Up Yonda Farm Environmental Education Center
ATTACH;FMTTYPE="image/jpeg":https://storage.ning.com/topology/rest/1.0
 /file/get/13007455879?profile=original
ATTENDEE;ROLE=REQ-PARTICIPANT;PARTSTAT=ACCEPTED;RSVP=TRUE;CN="William 
 Bruce":https://northeastwheelsevents.com/profile/WilliamBruce
END:VEVENT
END:VCALENDAR
