BEGIN:VCALENDAR
PRODID:NingEventWidget-v1
VERSION:2.0
METHOD:PUBLISH
BEGIN:VEVENT
UID:5167423:Event:137808
DTSTAMP:20260424T002538Z
SUMMARY:USMC Toys for Tots - Teddy Bear Rally - 26th Annual Event
DESCRIPTION:A fun 60 mile 'gimmick' rally to support the USMC Toys for
  Tots program\n\nFor more information visit https://northeastwheelseve
 nts.com/events/usmc-toys-for-tots-teddy-bear-rally-26th-annual-event
DTSTART:20161204T153000Z
DTEND:20161204T220000Z
CATEGORIES:road, rally
LOCATION:Subaru 46 Hackettstown/Budd Lake NJ
WEBSITE:http://www.mcnj.org
URL:http://www.mcnj.org
CONTACT:908-938-8750
ORGANIZER;CN="Peter Schneider":https://northeastwheelsevents.com/profi
 le/PeterSchneider
ATTACH;FMTTYPE="image/jpeg":
ATTENDEE;ROLE=REQ-PARTICIPANT;PARTSTAT=ACCEPTED;RSVP=TRUE;CN="Peter Sc
 hneider":https://northeastwheelsevents.com/profile/PeterSchneider
END:VEVENT
END:VCALENDAR
