BEGIN:VCALENDAR
PRODID:NingEventWidget-v1
VERSION:2.0
METHOD:PUBLISH
BEGIN:VEVENT
UID:5167423:Event:312305
DTSTAMP:20260419T091426Z
SUMMARY:Valley Forge Mustang Club 42nd Anniversary Mustang and Ford Sh
 ow
DESCRIPTION:Date: May 28, 2023 Title of Event: 42th h ANNUAL CHESTER C
 OUNTY MUSTANG & FORD SHOW Day of the Week: Sunday Rain Date: May 29,20
 23\nType of Event: Mustang and FORD Powered only for VFMC\nVehicle Res
 trictions: All Vehicles must be driven onto the show field. Trailer Pa
 rking available Location of Event: Kimberton Fairgrounds Route 113 Kim
 berton, PA 19442\nRegistration Time: 9:00 am to 12:00 pm Event Time: 0
 9:00 am to 3 pm\nOnline Reg. - $15.00 Pre-Registration Fee: $10.00 Pre
 -Registration/Online Cutoff Date: May 15, 2023 Day of Event Registrati
 on Fee: $20.00 Presented By: Valley Forge Mustang Club Event Rules / R
 egulations: Pets OK please remember it can get hot. No Alcohol No Burn
 outs No Bicycles No Skateboards No Scooters\nEvent Surface: Grass Ente
 rtainment: DJ Food: Vendors: Yes Dash Plaques: Yes, given to the first
  150 cars to register. Goody Bags: Yes, Given to the first 150 cars to
  register. Door Prizes: Yes, Randomly given throughout the day Flee Ma
 rket, Basket Auction and 50/50\nClasses / Awards: Peopleâ€™s Choice Aw
 ards for Top Vehicles Â in each class 1st Generation 1964 Â½ -1973 2nd
  Generation 1974-1978 3rd Generation 1979-1993 4th Generation 1994-200
 4 5th Generation 2005-2014 6TH Generation 2015+ Shelby, Roush, Saleen\
 nFord Powered\nPresidentâ€™s Choice Award Kids Choice Award-Kids Vote 
 Display Only-No Awards\nFor Registration information: 215-290-3682 orÂ
  info@thevfmc.org\nWeb Site Address:Â https://www.thevfmc.org/index.ph
 p?pageid=spring_show\n\nFor more information visit https://northeastwh
 eelsevents.com/events/valley-forge-mustang-club-42nd-anniversary-musta
 ng-and-ford-show
DTSTART:20230528T130000Z
DTEND:20230528T190000Z
CATEGORIES:mustang, and, ford, powered, car, show
LOCATION:Kimberton Fairground
WEBSITE:https://www.thevfmc.org/index.php?pageid=spring_show
URL:https://www.thevfmc.org/index.php?pageid=spring_show
CONTACT:484-432-2904
ORGANIZER;CN="Tina Bauman":https://northeastwheelsevents.com/profile/T
 inaBauman689
ATTACH;FMTTYPE="image/jpeg":
ATTENDEE;ROLE=REQ-PARTICIPANT;PARTSTAT=ACCEPTED;RSVP=TRUE;CN="Tina Bau
 man":https://northeastwheelsevents.com/profile/TinaBauman689
END:VEVENT
END:VCALENDAR
