BEGIN:VCALENDAR
PRODID:NingEventWidget-v1
VERSION:2.0
METHOD:PUBLISH
BEGIN:VEVENT
UID:5167423:Event:338275
DTSTAMP:20260421T062338Z
SUMMARY:Valleycon 34 -IPMS/USA Model Contest
DESCRIPTION:This is a hybrid event with Automotive and Aircraft classe
 s being judged in the traditional IPMS style and the rest being judged
  using the Open System.  Our raffle features several big ticket new (
 current) releases as well as a large selection of other new items. Foo
 d is available and there is plenty of parking. All display tables are 
 raised. While we limit entries to 3 models per category per modeller, 
 there is space to display models not in competition. Entry fee for the
  contest is $5.00 for the first three models and $2.00 for each additi
 on model to a maximium of $15.00 (8 models)Additional entries are free
 . We strongly recommend models be on a base to reduce the need to touc
 h a model during judging. We will also have bases for your use, if you
  need them. General admission is $5.00 with children under 16 admitted
  free. There is no entry fee for entrants under 16. Our forms are avai
 lable at our website and we encourage entrants to download them and fi
 ll them out on their computers. \r\n\r\nContest Chairperson's Name: 
 \r\n\r\nAl LaFleche\r\n\r\n\r\n\r\nPhone: \r\n\r\n413-306-1270\r\n\r\
 n\r\n\r\nE-mail: \r\n\r\nwings.wheels.modelers@gmail.com\r\n\r\n\n\nF
 or more information visit https://northeastwheelsevents.com/events/val
 leycon-34-ipms-usa-model-contest
DTSTART:20250330T130000Z
DTEND:20250330T210000Z
CATEGORIES:modelcarshow, swapmeets
LOCATION:Knights of Columbus Elder Council 69
WEBSITE:https://ipmsusa.org/event/valleycon-34
URL:https://ipmsusa.org/event/valleycon-34
CONTACT:413-306-1270
ORGANIZER:Wings &amp; Wheels Modelers/IPMS
ATTACH;FMTTYPE="image/jpeg":https://storage.ning.com/topology/rest/1.0
 /file/get/13528219653?profile=original
ATTENDEE;ROLE=REQ-PARTICIPANT;PARTSTAT=ACCEPTED;RSVP=TRUE;CN="William 
 Bruce":https://northeastwheelsevents.com/profile/WilliamBruce
END:VEVENT
END:VCALENDAR
