BEGIN:VCALENDAR
PRODID:NingEventWidget-v1
VERSION:2.0
METHOD:PUBLISH
BEGIN:VEVENT
UID:5167423:Event:169623
DTSTAMP:20260422T093221Z
SUMMARY:Veterans Classic Car Show
DESCRIPTION:The Battleship New Jersey will honor and remember all our 
 veterans with a ceremony on the forecastle (forward deck) on Veterans 
 Day, Saturday, Nov. 11 at 11am. This free ceremony will feature keynot
 e speaker Bruce Heilman, a WWII Marine veteran and National Spokesman 
 for The Greatest Generation Foundation. Capt. Walt Urban, USN (ret), t
 he Battleship's Military Liaison Officer and Chairman of the Board of 
 Trusttees, will serve as MC. The ceremony will end with the casting of
  a memorial wreath upon the Delaware River to remember all veterans wh
 o have passed. The Battleship will also allow vets to tour the ship t
 hat day for any donation amount. Just check in at the Battleship's Tic
 ket Office for a Fire Power self-guided tour for whatever donation you
  can make. Tours will be available from 9:30am to 3pm on Saturday, Nov
 . 11. Further, the Battleship will host a Veterans Classic Car Show o
 n the pier from noon to 3pm. Guests touring the Battleship are welcome
  to check out the vehicles.Finally, all veterans can receive a free ha
 ircut, courtesy of Franco's Barbershop, who will have their mobile bar
 bershop on the pier of the Battleship from noon to 3pm.\n\nFor more in
 formation visit https://northeastwheelsevents.com/events/veterans-clas
 sic-car-show
DTSTART:20171111T160000Z
DTEND:20171111T200000Z
CATEGORIES:car, show
LOCATION:Camden, NJ
WEBSITE:https://www.facebook.com/events/1177439552386827/
URL:https://www.facebook.com/events/1177439552386827/
CONTACT:
ORGANIZER:Veterans Car Show Group
ATTACH;FMTTYPE="image/jpeg":http://storage.ning.com/topology/rest/1.0/
 file/get/2284102913?profile=original
ATTENDEE;ROLE=REQ-PARTICIPANT;PARTSTAT=ACCEPTED;RSVP=TRUE;CN="Pamela H
 irschhorn":https://northeastwheelsevents.com/profile/PamelaHirschhorn
END:VEVENT
END:VCALENDAR
