BEGIN:VCALENDAR
PRODID:NingEventWidget-v1
VERSION:2.0
METHOD:PUBLISH
BEGIN:VEVENT
UID:5167423:Event:60508
DTSTAMP:20260422T194040Z
SUMMARY:Veterans Day Salute
DESCRIPTION:We want to extend our deep gratitude to those men and wome
 n who are currently serving or have served our nation. In their honor,
  the AACA Museum will offer complimentary admission to all Veterans on
  Veteran’s Day, November 11th. The AACA Museum will have a special v
 ehicle on display – a 1942 Ford Jeep GPW (general purpose design Wil
 lys). The demand for jeeps in World War II was so great that they also
  contracted with Ford to make these. Active duty military receive comp
 limentary admission with military ID year-round at the AACA Museum. We
  hope you will join us on this special day to honor our Veterans. \n\
 nFor more information visit https://northeastwheelsevents.com/events/v
 eterans-day-salute
DTSTART:20141111T140000Z
DTEND:20141111T220000Z
CATEGORIES:seasonal
LOCATION:AACA Museum
WEBSITE:http://www.aacamuseum.org/veterans-day-salute-2/
URL:http://www.aacamuseum.org/veterans-day-salute-2/
CONTACT:717-566-7100
ORGANIZER;CN="AACA Museum":https://northeastwheelsevents.com/profile/A
 ACAMuseum553
ATTACH;FMTTYPE="image/jpeg":http://storage.ning.com/topology/rest/1.0/
 file/get/2284063973?profile=original
ATTENDEE;ROLE=REQ-PARTICIPANT;PARTSTAT=ACCEPTED;RSVP=TRUE;CN="AACA Mus
 eum":https://northeastwheelsevents.com/profile/AACAMuseum553
END:VEVENT
END:VCALENDAR
