BEGIN:VCALENDAR
PRODID:NingEventWidget-v1
VERSION:2.0
METHOD:PUBLISH
BEGIN:VEVENT
UID:5167423:Event:101020
DTSTAMP:20260425T121609Z
SUMMARY:Vettes for Vets Car, Truck & Motorcycle Show 11
DESCRIPTION:11th annual show. 24 classes 76 Eagle awards! 50/50, Trick
 y tray. Patriotic ball cap and dash plaque for entrants.$15 by 6/10 $2
 0 DOS. ALL PROCEEDS donated to Vietnam Veterans ( Lehigh Valley/Pocono
  chapters) Rain or Shine. Breakfast & Lunch available\nDJ,\n\nFor more
  information visit https://northeastwheelsevents.com/events/vettes-for
 -vets-car-truck-motorcycle-show-11
DTSTART:20160612T130000Z
DTEND:20160612T190000Z
CATEGORIES:car, truck, motorcycle, show
LOCATION:Blue Valley Farm Show Complex
WEBSITE:http://www.slatebeltcorvetteclub.com
URL:http://www.slatebeltcorvetteclub.com
CONTACT:610-841-6403
ORGANIZER:Jeff Haycock
ATTACH;FMTTYPE="image/jpeg":
ATTENDEE;ROLE=REQ-PARTICIPANT;PARTSTAT=ACCEPTED;RSVP=TRUE;CN="Jeff Hay
 cock ":https://northeastwheelsevents.com/profile/JeffHaycock
END:VEVENT
END:VCALENDAR
