BEGIN:VCALENDAR
PRODID:NingEventWidget-v1
VERSION:2.0
METHOD:PUBLISH
BEGIN:VEVENT
UID:5167423:Event:242530
DTSTAMP:20260423T033706Z
SUMMARY:Victory Church \"Man Day\" Car Show - Troy, PA
DESCRIPTION:VICTORY CHURCH TO HOST 6TH ANNUAL FATHER'S DAY CAR SHOW.\n
 This “MAN DAY” event will take place at Victory Church, Troy, PA o
 n SUNDAY, JUNE 16, 2019 with church service at 10:00 AM. All Cars, Hot
  Rods, Street Rods, Rat Rods, Trucks, Motorcycles, etc. are all welcom
 e, no matter what year! There will be PEERS CHOICE and PEOPLES CHOICE 
 awards with awesome prizes! • 1ST place - $300 GIFT CERTIFICATE & TR
 OPHY • 2ND place - $200 GIFT CERTIFICATE & TROPHY • 3RD place - $1
 00 GIFT CERTIFICATE & TROPHY • PEOPLES CHOICE AWARD - $100 GIFT CERT
 IFICATE & TROPHY • FREE EVENT SHIRT & GOODY BAG FOR EVERY CAR ENTRY!
  • FREE ADMISSION • FREE LUNCH • BURNOUT BOX COMPETITION! Rain d
 ate is June 23rd, 2019.\nThis is a family event with good food & fello
 wship. For more information you can contact info@voiceofvictory.com or
  facebook.com/VictoryChurchCarShow/\nVictory Church is located on 645 
 EAST MAIN STREET TROY, PA - (570) 297 1060 - www.voiceofvictory.com\n\
 nFor more information visit https://northeastwheelsevents.com/events/v
 ictory-church-man-day-car-show-troy-pa
DTSTART:20190616T140000Z
DTEND:20190616T170000Z
CATEGORIES:car, show
LOCATION:Victory Church
WEBSITE:https://www.facebook.com/VictoryChurchCarShow/
URL:https://www.facebook.com/VictoryChurchCarShow/
CONTACT:5705065594
ORGANIZER;CN="Kevin Morgan":https://northeastwheelsevents.com/profile/
 KevinMorgan
ATTACH;FMTTYPE="image/jpeg":
ATTENDEE;ROLE=REQ-PARTICIPANT;PARTSTAT=ACCEPTED;RSVP=TRUE;CN="Kevin Mo
 rgan":https://northeastwheelsevents.com/profile/KevinMorgan
END:VEVENT
END:VCALENDAR
