BEGIN:VCALENDAR
PRODID:NingEventWidget-v1
VERSION:2.0
METHOD:PUBLISH
BEGIN:VEVENT
UID:5167423:Event:335293
DTSTAMP:20260423T003919Z
SUMMARY:Village Green of Bristol 3rd Annual Trunk or Treat!
DESCRIPTION:It’s that time again!! Please join us for the 3rd annual
  Trunk or Treat at Village Green of Bristol. There will be live music,
  face painting, a food truck, candy and lots of fun!\r\nBring your cla
 ssic car, truck or bike! \n\nFor more information visit https://north
 eastwheelsevents.com/events/village-green-of-bristol-3rd-annual-trunk-
 or-treat
DTSTART:20241025T213000Z
DTEND:20241025T230000Z
CATEGORIES:trunkortreat, cruise-in
LOCATION:Village Green Bristol
WEBSITE:https://allevents.in/bristol/village-green-of-bristol-3rd-annu
 al-trunk-or-treat/200027136918425
URL:https://allevents.in/bristol/village-green-of-bristol-3rd-annual-t
 runk-or-treat/200027136918425
CONTACT:860-589-2923
ORGANIZER:Michelle Berube DiCicco
ATTACH;FMTTYPE="image/jpeg":https://storage.ning.com/topology/rest/1.0
 /file/get/13019270077?profile=original
ATTENDEE;ROLE=REQ-PARTICIPANT;PARTSTAT=ACCEPTED;RSVP=TRUE;CN="William 
 Bruce":https://northeastwheelsevents.com/profile/WilliamBruce
END:VEVENT
END:VCALENDAR
