BEGIN:VCALENDAR
PRODID:NingEventWidget-v1
VERSION:2.0
METHOD:PUBLISH
BEGIN:VEVENT
UID:5167423:Event:345076
DTSTAMP:20260424T060356Z
SUMMARY:Village of Solvay 2nd Annual Car, Truck & Motorcycle Show
DESCRIPTION:\r\n\r\n\r\nBring your ride any ride, Car, truck, bike wha
 tever it is, or just come out to see these amazing machines\r\n\r\nFre
 e Entry!\r\n\r\nLike last year there will be a spot for a bottle and c
 an drive, so if you want to please bring them to donate to Solvay-Gedd
 es Community Youth Center Non-profit organization.\r\n\r\n\r\n\n\nFor 
 more information visit https://northeastwheelsevents.com/events/villag
 e-of-solvay-2nd-annual-car-truck-motorcycle-show
DTSTART:20251004T140000Z
DTEND:20251004T190000Z
CATEGORIES:carshow, benefit
LOCATION:Solvoy Geddess Community Youth Center
WEBSITE:https://www.cyclefish.com/motorcycle_event/92600/village-of-so
 lvay-2nd-annual-car-truck-motorcycle-show
URL:https://www.cyclefish.com/motorcycle_event/92600/village-of-solvay
 -2nd-annual-car-truck-motorcycle-show
CONTACT:(315) 431-5302
ORGANIZER:village of salvoy
ATTACH;FMTTYPE="image/jpeg":https://storage.ning.com/topology/rest/1.0
 /file/get/13729113877?profile=original
ATTENDEE;ROLE=REQ-PARTICIPANT;PARTSTAT=ACCEPTED;RSVP=TRUE;CN="William 
 Bruce":https://northeastwheelsevents.com/profile/WilliamBruce
END:VEVENT
END:VCALENDAR
