BEGIN:VCALENDAR
PRODID:NingEventWidget-v1
VERSION:2.0
METHOD:PUBLISH
BEGIN:VEVENT
UID:5167423:Event:304985
DTSTAMP:20260422T163211Z
SUMMARY:Vintage and Classic Street Meet
DESCRIPTION:Saturday - September 17th, 2022 9:30am-2:30pm Riverside Dr
 ive Clayton, NY\n\n\n\nFor more information visit https://northeastwhe
 elsevents.com/events/vintage-amp-classic-street-meet
DTSTART:20220917T133000Z
DTEND:20220917T183000Z
CATEGORIES:car, show
LOCATION:All through town on Riverside Drive
WEBSITE:https://www.facebook.com/events/438255344732318
URL:https://www.facebook.com/events/438255344732318
CONTACT:
ORGANIZER:Clayton Chamber
ATTACH;FMTTYPE="image/jpeg":
ATTENDEE;ROLE=REQ-PARTICIPANT;PARTSTAT=ACCEPTED;RSVP=TRUE;CN=CrazyJerr
 y:https://northeastwheelsevents.com/profile/CrazyJerry
END:VEVENT
END:VCALENDAR
