BEGIN:VCALENDAR
PRODID:NingEventWidget-v1
VERSION:2.0
METHOD:PUBLISH
BEGIN:VEVENT
UID:5167423:Event:240489
DTSTAMP:20260422T214036Z
SUMMARY:Virginville Fire Company Car Show
DESCRIPTION:The Virginville Volunteer Fire Company is hosting our 4th 
 Annual Car show. There will be food served all day, DJ, raffles, strip
  tickets, 50/50, and a Chinese auction. This event is rain or shine an
 d is located on a grass/stone lot. Pre-registration is $10, day of reg
 istration is $12. General Admission is free! All proceeds benefit the 
 Volunteer Community Fire Company of Virginville.\n\nThere are classes 
 for Cars, Trucks, Antique Tractors, Motorcycles, and an all new Off Ro
 ad Class! Registration forms and class forms can be found on the Virgi
 nville Fire Company Website.\n\nWe hope to see you there!\n\nFor more 
 information visit https://northeastwheelsevents.com/events/virginville
 -fire-company-car-show-1
DTSTART:20190511T120000Z
DTEND:20190511T180000Z
CATEGORIES:fundraiser
LOCATION:Virginville Fire Company
WEBSITE:http://virginvillefire.com
URL:http://virginvillefire.com
CONTACT:4842560573
ORGANIZER;CN="Virginville Fire Company":https://northeastwheelsevents.
 com/profile/VirginvilleFireCompany889
ATTACH;FMTTYPE="image/jpeg":
ATTENDEE;ROLE=REQ-PARTICIPANT;PARTSTAT=ACCEPTED;RSVP=TRUE;CN="Virginvi
 lle Fire Company":https://northeastwheelsevents.com/profile/Virginvill
 eFireCompany889
END:VEVENT
END:VCALENDAR
