BEGIN:VCALENDAR
PRODID:NingEventWidget-v1
VERSION:2.0
METHOD:PUBLISH
BEGIN:VEVENT
UID:5167423:Event:142575
DTSTAMP:20260423T015921Z
SUMMARY:Viva Eastv
DESCRIPTION:Hot rod and rockabilly weekender Marlborough MA\n\nFor mor
 e information visit https://northeastwheelsevents.com/events/viva-east
 v
DTSTART:20170713T040000Z
DTEND:20170717T035900Z
CATEGORIES:4, days, of, hot, rods, and, rockabilly, bands
LOCATION:Royal plaza ,Marlborough MA
WEBSITE:http://Www.viva-east.net
URL:http://Www.viva-east.net
CONTACT:
ORGANIZER;CN="Viva east":https://northeastwheelsevents.com/profile/Viv
 aeast
ATTACH;FMTTYPE="image/jpeg":
ATTENDEE;ROLE=REQ-PARTICIPANT;PARTSTAT=ACCEPTED;RSVP=TRUE;CN="Viva eas
 t":https://northeastwheelsevents.com/profile/Vivaeast
END:VEVENT
END:VCALENDAR
