BEGIN:VCALENDAR
PRODID:NingEventWidget-v1
VERSION:2.0
METHOD:PUBLISH
BEGIN:VEVENT
UID:5167423:Event:318046
DTSTAMP:20260421T231638Z
SUMMARY:Waddington Annual Homecoming Car Show
DESCRIPTION:(Saturday) 10am-2pmLocation: Island View Park / Waddington
 , NY 13694\n\nFor more information visit https://northeastwheelsevents
 .com/events/waddington-annual-homecoming-car-show-2
DTSTART:20230805T140000Z
DTEND:20230805T180000Z
CATEGORIES:car, show
LOCATION:Island View Park
WEBSITE:https://www.facebook.com/photo?fbid=667947592043826&amp;set=pc
 b.667937915378127
URL:https://www.facebook.com/photo?fbid=667947592043826&amp;set=pcb.66
 7937915378127
CONTACT:
ORGANIZER:Waddington Homecoming
ATTACH;FMTTYPE="image/jpeg":
ATTENDEE;ROLE=REQ-PARTICIPANT;PARTSTAT=ACCEPTED;RSVP=TRUE;CN=CrazyJerr
 y:https://northeastwheelsevents.com/profile/CrazyJerry
END:VEVENT
END:VCALENDAR
