BEGIN:VCALENDAR
PRODID:NingEventWidget-v1
VERSION:2.0
METHOD:PUBLISH
BEGIN:VEVENT
UID:5167423:Event:334859
DTSTAMP:20260424T043010Z
SUMMARY:WagenFest Classic VW / Porsche Car Show & Cruise
DESCRIPTION:\r\n\r\n\r\nJoin us for WagenFest, Saturday, October 12, 2
 024, for the Classic Aircooled and early Watercooled Volkswagen, Audi 
 and Porsche Car Show at beautiful Hudson Crossing Park, with Food Truc
 ks, Vendors, SWAG, Music and more!\r\n\r\n\r\n\r\n\r\n\r\n\r\n\r\n\r\n
 \r\n\r\n*NEW for 2024: We have partnered up with Saratoga, Corinth and
  Hudson Railways and we will be cruising over to the \"Train to Oktobe
 rfest\" event in Greenfield Center, NY on Saturday afternoon after the
  show. We will be parking our cars next to the train and on the lawn a
 t the Oktoberfest. For more info and if you are interested in the tra
 in ride, please visit: https://corinthtrain.com/CAR SHOW LOCATION:•
  Hudson Crossing ParkCo Rd 42, Schuylerville, NY 12871https://www.huds
 oncrossingpark.orgFESTIVITIES LOCATION:• The Village of Schuylervill
 e, NY• Bound by Fate Brewing Taproom (for brew and food)• Kickstar
 t Cafe• Corinth/Greenfield Center, NY S.C.H Railways (for the Oktobe
 rfestCAMPING or LOCAL LODGING ACCOMMODATIONS are found on webpage!\"Ca
 mping at the Hudson Crossing ParkFriday night and/or Saturday night ca
 mping available.$20 per tent/bus (please Facebook message us or email 
 us at info@wagenfest.com to reserve your camping spot). Please conta
 ct us for more info on accommodations. Check webpage. ***EVENTS TIME 
 & SCHEDULE***(subject to change, so please keep checking for updates)N
 OTICE: Rain Date is Sunday, October 13, 2024.FRIDAY, OCT. 11• 6:00 p
 m - Meet & Greet at the \"Champlain Canal Region Gateway Visitors Cent
 er\" in downtown Village of Schuylerville.• 6:30 pm - Walk across th
 e street to \"Bound by Fate Brewing\" for Brew and Food.SATURDAY, OCT.
  12• 9:00 am - Car Show at Hudson Crossing Park• 1:00 pm - Award C
 eremony• 2:00 pm - “Cruise over to Greenfield Center, NY for the \
 "Train to Oktoberfest. BRING YOUR CAMERAS!SUNDAY, OCT. 13• 9:00 am -
  \"Cars and Coffee\" meet at Kickstart Cafe in downtown Schuylerville,
  NY.• 10:30 am - Car Cruise through the countryside to apple orchard
 s and covered bridges.NOTICE: Rain Date is October 13, 2024 (same sche
 dule and location!$15 for Show Car or Swap MeetFREE Spectator/General 
 Admission (Donations accepted for Hudson Crossing Park)*All Proceeds g
 o to Hudson Crossing ParkFREE to all Vendors (we accept donations for 
 the Hudson Crossing Park to help make our event grow).\"Hudson Crossin
 g Park is a unique recreational and educational destination.\" Checkou
 t (https://www.hudsoncrossingpark.org/) for info. on park. We hope t
 o see you there!!!MORE INFO COMING SOON!\r\n\r\n\r\n\r\n\r\n\r\n\r\n\r
 \n\n\nFor more information visit https://northeastwheelsevents.com/eve
 nts/wagenfest-classic-vw-porsche-car-show-cruise
DTSTART:20241011T130000Z
DTEND:20241013T230000Z
CATEGORIES:carshow, benefit, cruise-in
LOCATION:Hudson Crossing Park
WEBSITE:https://allevents.in/schuylerville/wagenfest-classic-vw-porsch
 e-car-show-and-cruise/200027255175419
URL:https://allevents.in/schuylerville/wagenfest-classic-vw-porsche-ca
 r-show-and-cruise/200027255175419
CONTACT:518-350-7275
ORGANIZER:Hudson Crossing Park
ATTACH;FMTTYPE="image/jpeg":https://storage.ning.com/topology/rest/1.0
 /file/get/12984854300?profile=original
ATTENDEE;ROLE=REQ-PARTICIPANT;PARTSTAT=ACCEPTED;RSVP=TRUE;CN="William 
 Bruce":https://northeastwheelsevents.com/profile/WilliamBruce
END:VEVENT
END:VCALENDAR
