BEGIN:VCALENDAR
PRODID:NingEventWidget-v1
VERSION:2.0
METHOD:PUBLISH
BEGIN:VEVENT
UID:5167423:Event:343893
DTSTAMP:20260424T010129Z
SUMMARY:Walters Car Cruise - 2025
DESCRIPTION:🚗✨ The WALTERS CAR CRUZ & City-Wide Yard Sales ✨
 📅 Saturday, October 4thGet ready for a full day of fun in Walters!
  This year’s Car Cruz will feature:🔥 Car Show & Burn-Out🛻 Vend
 ors & Food Trucks🎯 Games for All Ages🚙 Kid’s Car Show (Cozy Co
 upes, Power Wheels & more!)🛍️ City-Wide Yard Sales👉 Text 580-5
 12-7734 for more info!We’re also filling 100 Goody Bags for the even
 t-businesses & organizations are welcome to contribute items.🙌 Want
  to get involved? Volunteers are always welcome! Join us at our planni
 ng meetings every Wednesday at 3:30 PM at the Walters Public Library.L
 et’s make this the best Car Cruz ever, come out and enjoy a day of f
 amily fun! \n\nFor more information visit https://northeastwheelseven
 ts.com/events/walters-car-cruise-2025
DTSTART:20251004T170000Z
DTEND:20251004T230000Z
CATEGORIES:cruisein
LOCATION:City of Walters
WEBSITE:https://allevents.in/wilkes-barre/walters-car-cruise-2025/2000
 28716001628
URL:https://allevents.in/wilkes-barre/walters-car-cruise-2025/20002871
 6001628
CONTACT:570-823-2101
ORGANIZER:Walters Chamber of Commerce
ATTACH;FMTTYPE="image/jpeg":https://storage.ning.com/topology/rest/1.0
 /file/get/13715032064?profile=original
ATTENDEE;ROLE=REQ-PARTICIPANT;PARTSTAT=ACCEPTED;RSVP=TRUE;CN="William 
 Bruce":https://northeastwheelsevents.com/profile/WilliamBruce
END:VEVENT
END:VCALENDAR
