BEGIN:VCALENDAR
PRODID:NingEventWidget-v1
VERSION:2.0
METHOD:PUBLISH
BEGIN:VEVENT
UID:5167423:Event:240044
DTSTAMP:20260422T195041Z
SUMMARY:Warren Hills Regional HS TSA Car Show
DESCRIPTION:\nCAR SHOW Organized by the WHRHS TSA & Technology Educat
 ion Department Saturday, May 11, 2019\nRain or Shine • No Refunds\n
 Check in 9:00 am to 11:00 am\nCar Show Viewing 9:00 am to 3:00 pm\nVot
 ing ends by 2:00 pm  Awards at 3:00pm \n• Breakfast & Lunch Conces
 sions •\n• Picnic Games • Music • Door Prizes •\n• Vendors
  • Swap Meet •\nALL MAKES & MODELS ARE WELCOMED\nClassics/Vintage/
 Modern Cars, Trucks, Motorcycles\nPaved Surface Show Car Parking\nTrop
 hies awarded to the top 2 vehicles in each car class as picked by the 
 participants and spectators.\nClasses: Best of show trophy to top vote
 d car.\n1.  Antiques (25 & older) 2.  Stock & OEM Cars (all makes) 3
 .  Corvette (all years) 4.  Mustang (all years) 5.  Muscle Ford 6.
   Muscle GM / Chevy 7.  Muscle Mopar / Dodge 8.  Stock Truck (all 
 makes) 9.  Modified Truck (all makes)\n10.  Street / Hot / Rat Rod 1
 1.  Foreign / Import (all makes) 12.  Motorcycles (all makes) 13. 
  Military / Special / Firetruck / Service / Commercial 14. Vendor / Sw
 ap Meet Space (No trophy awarded)\nNO Smoking, No Vaping, No Alcohol o
 r Illegal Substances on School Grounds\nDash Plaques for the first 50 
 car entrants\n\n$15 Car Reg or $10 Vendor Reg Before April 1 • Day o
 f $20 Show Car Reg or $15 Vendor Reg\nRain or Shine • No Refunds •
  Vendor Spaces are 10ft x 10ft\n\nLiability needs to be signed.\n\n\n\
 nFor more information visit https://northeastwheelsevents.com/events/w
 arren-hills-regional-hs-tsa-car-show
DTSTART:20190511T130000Z
DTEND:20190511T190000Z
CATEGORIES:car, show, fundraiser, for, tsa
LOCATION:Warren Hills Regional HS
WEBSITE:
URL:
CONTACT:
ORGANIZER;CN="Mr. Tim Zavacki":https://northeastwheelsevents.com/profi
 le/MrTimZavacki
ATTACH;FMTTYPE="image/jpeg":
ATTENDEE;ROLE=REQ-PARTICIPANT;PARTSTAT=ACCEPTED;RSVP=TRUE;CN="Mr. Tim 
 Zavacki":https://northeastwheelsevents.com/profile/MrTimZavacki
END:VEVENT
END:VCALENDAR
