BEGIN:VCALENDAR
PRODID:NingEventWidget-v1
VERSION:2.0
METHOD:PUBLISH
BEGIN:VEVENT
UID:5167423:Event:325987
DTSTAMP:20260426T002739Z
SUMMARY:Watson Inn Warrior 5 Car, Truck, and Bike Show
DESCRIPTION:\n\nFor more information visit https://northeastwheelseven
 ts.com/events/watson-inn-warrior-5-car-truck-and-bike-show
DTSTART:20240824T140000Z
DTEND:20240824T200000Z
CATEGORIES:supporting, wounded, warriors, pennsylvania
LOCATION:White Deer Community Park
WEBSITE:https://maps.app.goo.gl/LZUaumd9wncdAAET7
URL:https://maps.app.goo.gl/LZUaumd9wncdAAET7
CONTACT:570-974-1923
ORGANIZER:Watson Inn Charlie D. Lumbard Carz 4a Cause
ATTACH;FMTTYPE="image/jpeg":https://storage.ning.com/topology/rest/1.0
 /file/get/12757590084?profile=original
ATTENDEE;ROLE=REQ-PARTICIPANT;PARTSTAT=ACCEPTED;RSVP=TRUE;CN="Charlie 
 D. Lumbard":https://northeastwheelsevents.com/profile/CharlieDLumbard
END:VEVENT
END:VCALENDAR
