BEGIN:VCALENDAR
PRODID:NingEventWidget-v1
VERSION:2.0
METHOD:PUBLISH
BEGIN:VEVENT
UID:5167423:Event:147894
DTSTAMP:20260422T181702Z
SUMMARY:WECC AMC Pottsgrove 12 Cruise Night September 26
DESCRIPTION:\n\nFor more information visit https://northeastwheelseven
 ts.com/events/wecc-amc-pottsgrove-12-cruise-night-september-26
DTSTART:20170926T220000Z
DTEND:20170927T010000Z
CATEGORIES:fundraiser
LOCATION:AMC Pottsgrove 12
WEBSITE:
URL:
CONTACT:484-944-4734
ORGANIZER;CN="Wicked Effects Car Club":https://northeastwheelsevents.c
 om/profile/WickedEffectsCarClub
ATTACH;FMTTYPE="image/jpeg":http://storage.ning.com/topology/rest/1.0/
 file/get/2284098316?profile=original
ATTENDEE;ROLE=REQ-PARTICIPANT;PARTSTAT=ACCEPTED;RSVP=TRUE;CN="Wicked E
 ffects Car Club":https://northeastwheelsevents.com/profile/WickedEffec
 tsCarClub
END:VEVENT
END:VCALENDAR
