BEGIN:VCALENDAR
PRODID:NingEventWidget-v1
VERSION:2.0
METHOD:PUBLISH
BEGIN:VEVENT
UID:5167423:Event:148202
DTSTAMP:20260423T071753Z
SUMMARY:WECC car show at Jay Lanes Bowling Center
DESCRIPTION:\n\nFor more information visit https://northeastwheelseven
 ts.com/events/wecc-car-show-at-jay-lanes-bowling-center
DTSTART:20170813T040000Z
DTEND:20170814T035900Z
CATEGORIES:fundraiser, car, show
LOCATION:Jay Lanes Bowling Alley
WEBSITE:
URL:
CONTACT:484-944-4734
ORGANIZER;CN="Wicked Effects Car Club":https://northeastwheelsevents.c
 om/profile/WickedEffectsCarClub
ATTACH;FMTTYPE="image/jpeg":http://storage.ning.com/topology/rest/1.0/
 file/get/2284098316?profile=original
ATTENDEE;ROLE=REQ-PARTICIPANT;PARTSTAT=ACCEPTED;RSVP=TRUE;CN="Wicked E
 ffects Car Club":https://northeastwheelsevents.com/profile/WickedEffec
 tsCarClub
END:VEVENT
END:VCALENDAR
