BEGIN:VCALENDAR
PRODID:NingEventWidget-v1
VERSION:2.0
METHOD:PUBLISH
BEGIN:VEVENT
UID:5167423:Event:260174
DTSTAMP:20260426T002005Z
SUMMARY:WECC Just for Fun Car Show
DESCRIPTION:Our annual fundraiser car show. $15 to enter. Over 75 awar
 ds. Expect fun classes as well as show classes. Come with a sense of h
 umor as we like to have fun with our award classes.\n \n\n50/50 raffl
 e , basket raffle, professional DJ \n\n\nFor more information visit h
 ttps://northeastwheelsevents.com/events/wecc-just-for-fun-car-show
DTSTART:20201004T140000Z
DTEND:20201004T190000Z
CATEGORIES:fundraiser
LOCATION:Audio Sensations / NORCO Fire Company
WEBSITE:
URL:
CONTACT:
ORGANIZER;CN="Wicked Effects Car Club":https://northeastwheelsevents.c
 om/profile/WickedEffectsCarClub
ATTACH;FMTTYPE="image/jpeg":https://storage.ning.com/topology/rest/1.0
 /file/get/3861924295?profile=original
ATTENDEE;ROLE=REQ-PARTICIPANT;PARTSTAT=ACCEPTED;RSVP=TRUE;CN="Wicked E
 ffects Car Club":https://northeastwheelsevents.com/profile/WickedEffec
 tsCarClub
END:VEVENT
END:VCALENDAR
