BEGIN:VCALENDAR
PRODID:NingEventWidget-v1
VERSION:2.0
METHOD:PUBLISH
BEGIN:VEVENT
UID:5167423:Event:143961
DTSTAMP:20260423T170059Z
SUMMARY:Wednesday Night Test & Tune
DESCRIPTION:\n\n1ST Wednesday Night Test & Tune for 2017\n\n\n\n\nFor 
 more information visit https://northeastwheelsevents.com/events/wednes
 day-night-test-tune
DTSTART:20170412T040000Z
DTEND:20170413T035900Z
CATEGORIES:race
LOCATION:U.S. 13 DRAGWAY
WEBSITE:http://delawareracing.com/DragStrip/
URL:http://delawareracing.com/DragStrip/
CONTACT:302-846-3968
ORGANIZER:
ATTACH;FMTTYPE="image/jpeg":http://storage.ning.com/topology/rest/1.0/
 file/get/2284096679?profile=original
ATTENDEE;ROLE=REQ-PARTICIPANT;PARTSTAT=ACCEPTED;RSVP=TRUE;CN="Christop
 her Gosney":https://northeastwheelsevents.com/profile/ChristopherGosne
 y
END:VEVENT
END:VCALENDAR
