BEGIN:VCALENDAR
PRODID:NingEventWidget-v1
VERSION:2.0
METHOD:PUBLISH
BEGIN:VEVENT
UID:5167423:Event:230206
DTSTAMP:20260422T222123Z
SUMMARY:Weekend Cruisers Presents \" Food Truck Festival Car Show\"
DESCRIPTION:Reg. 10 am - 12 pm  $10.00 reg. All proceeds go to Renssel
 aer County Humane Society More info to come!\n\nFor more information v
 isit https://northeastwheelsevents.com/events/weekend-cruisers-present
 s-food-truck-festival-car-show
DTSTART:20190615T160000Z
DTEND:20190615T190000Z
CATEGORIES:car, show
LOCATION:Schodack Landing Fire Company
WEBSITE:http://weekendcruisers.com
URL:http://weekendcruisers.com
CONTACT:5187880429
ORGANIZER:Weekend Cruisers
ATTACH;FMTTYPE="image/jpeg":https://storage.ning.com/topology/rest/1.0
 /file/get/595052832?profile=original
ATTENDEE;ROLE=REQ-PARTICIPANT;PARTSTAT=ACCEPTED;RSVP=TRUE;CN="Lori A W
 eloth":https://northeastwheelsevents.com/profile/LoriAWeloth
END:VEVENT
END:VCALENDAR
