BEGIN:VCALENDAR
PRODID:NingEventWidget-v1
VERSION:2.0
METHOD:PUBLISH
BEGIN:VEVENT
UID:5167423:Event:40166
DTSTAMP:20260424T165716Z
SUMMARY:WELLSBORO Cruise Night
DESCRIPTION:TYOGA COUNTY MOTOR CLUB's Cruise Nights Every THURSDAY Nig
 ht at First Citizens Bank Lot (1 Pear St and Route 6) in Beautiful Wel
 lsboro.  Start Apr 17 thru Oct 19. WEB PAGE:  http://dz8190.wix.com/
 tyogamotorclub\nFacebook:\nhttps://www.facebook.com/groups/tyoga \n\n
  \n\n\nFor more information visit https://northeastwheelsevents.com/e
 vents/wellsboro-cruise-night
DTSTART:20140417T220000Z
DTEND:20140417T230000Z
CATEGORIES:cruise, in, thursdays
LOCATION:First Citizens
WEBSITE:http://dz8190.wix.com/tyogamotorclub
URL:http://dz8190.wix.com/tyogamotorclub
CONTACT:570 638-3176
ORGANIZER:David Zavetsky - Tyoga County Motor Club
ATTACH;FMTTYPE="image/jpeg":
ATTENDEE;ROLE=REQ-PARTICIPANT;PARTSTAT=ACCEPTED;RSVP=TRUE;CN="Pamela H
 irschhorn":https://northeastwheelsevents.com/profile/PamelaHirschhorn
END:VEVENT
END:VCALENDAR
