BEGIN:VCALENDAR
PRODID:NingEventWidget-v1
VERSION:2.0
METHOD:PUBLISH
BEGIN:VEVENT
UID:5167423:Event:67366
DTSTAMP:20260422T231837Z
SUMMARY:West Friendship 1st Annual Car Show
DESCRIPTION:Vehicle Restrictions :\n\nVehicles must have a fire exting
 uisher\nOpen to all Years, Makes and Models.\n\nLocation of Event :\nH
 oward County Living Farm Heritage Museum\n12985 Frederick Road\nWest F
 riendship, MD 21794  Registration Time : 8:00 a.m. to 11:30 a.m. Event
  Time : 9:00 a.m. to 2:00 p.m.  Pre-Registration Fee : $12.00 per vehi
 cle Pre-Registration Cutoff Date : May 3, 2015 Day of Event Registrati
 on Fee : $15.00 per vehicle Presented By : National Capital Region 36 
 Early Ford V8 Club of America Event Rules / Regulations :\n\nNo Alcoho
 l\n\n\nEvent Benefits :\n\nSwap meet Car corral spaces 10’x20’ sam
 e price as registration\n\nA portion of the show proceeds will be dona
 ted to the Howard County Living Farm Heritage Museum, a non-profit 501
 (c)(3) organization\n\n\n\nEntertainment : DJ Services Food : Yes Dash
  Plaques : Given to the first 100 vehicles to register. Door Prizes :
  Yes\nClasses / Awards :\n\nPlaques will be awarded to the top 40 vehi
 cles selected by the judging team in proportion to the number and type
 s of vehicles registered. An additional award will be selected by the 
 Museum\n\n\n\n\nFor more information visit https://northeastwheelseven
 ts.com/events/west-friendship-1st-annual-car-show
DTSTART:20150517T120000Z
DTEND:20150517T180000Z
CATEGORIES:car, show
LOCATION:Howard County Living Farm Heritage Museum
WEBSITE:http://www.ncr36.com
URL:http://www.ncr36.com
CONTACT:410-560-0237
ORGANIZER:Al Zimmermann zimmco1@comcast.net
ATTACH;FMTTYPE="image/jpeg":http://storage.ning.com/topology/rest/1.0/
 file/get/2284068772?profile=original
ATTENDEE;ROLE=REQ-PARTICIPANT;PARTSTAT=ACCEPTED;RSVP=TRUE;CN="Norman H
 eathcote":https://northeastwheelsevents.com/profile/NormanHeathcote
END:VEVENT
END:VCALENDAR
