BEGIN:VCALENDAR
PRODID:NingEventWidget-v1
VERSION:2.0
METHOD:PUBLISH
BEGIN:VEVENT
UID:5167423:Event:68471
DTSTAMP:20260422T105318Z
SUMMARY:West Side Pride Annual Motorcycle & Car Cruise
DESCRIPTION:May 16th 2015 Time: 11-5 Place: 2801 West Market St  Warre
 n, Ohio  Public Parking Look for Signs   Parking for Cruise Cars & Mot
 orcycles to be at:   Caesar's, North Park Plumbing, & Surrounding Bus
 inesses ... $5 Entrance Fee for Cars &Motorcycle (money goes to Allyss
 a)    Music, Fun & Food 50/50, Chinese Auction, Bake Sale, Photo Rama 
   Early Registration Contact Laurie at 330-307-5257   Come out for a f
 un day with your family! People’s choice award for Over All Car & Mo
 torcycle! $5 Entrance Fee for Cars & Bike (money goes to Allyssa who i
 s fighting Cancer ) \n\nFor more information visit https://northeastwh
 eelsevents.com/events/west-side-pride-aunnal-motorcycle-car-cruise
DTSTART:20150516T150000Z
DTEND:20150516T210000Z
CATEGORIES:cancer, fundraiser, for, 9, yr, old, allyssa, reed, fightin
 g
LOCATION:Caesar's Italain Restaurant
WEBSITE:https://www.facebook.com/events/1581093128844452/
URL:https://www.facebook.com/events/1581093128844452/
CONTACT:330-307-5257
ORGANIZER;CN="Laurie Sayers":https://northeastwheelsevents.com/profile
 /LaurieSayers
ATTACH;FMTTYPE="image/jpeg":
ATTENDEE;ROLE=REQ-PARTICIPANT;PARTSTAT=ACCEPTED;RSVP=TRUE;CN="Laurie S
 ayers":https://northeastwheelsevents.com/profile/LaurieSayers
END:VEVENT
END:VCALENDAR
