BEGIN:VCALENDAR
PRODID:NingEventWidget-v1
VERSION:2.0
METHOD:PUBLISH
BEGIN:VEVENT
UID:5167423:Event:334250
DTSTAMP:20260422T125805Z
SUMMARY:Westchester County Car Show 2024
DESCRIPTION:\r\n\r\nGet ready to see some of the hottest classic and c
 ollector cars at Westchester County’s largest and longest-running ca
 r show. Co-hosted by Westchester County & WSRA.\r\nSunday, September 
 29 · 9am - 4pm EDT.\r\nWelcome to the Westchester County Car Show!\r\
 nJoin us at Glen Island Park for a day filled with classic cars, mus
 cle cars, and everything in between.\r\nWhether you're a car enthusias
 t or just looking for a fun day out, this event is perfect for all ag
 es.\r\nCome for breakfast and stay for lunch - we will have 10 differ
 ent food and dessert trucks - you won't be disappointed.\r\nThere 
 will be a large vendor lot to shop from jewelry to accessories to ca
 r stuff.\r\nGet ready to admire some of the coolest rides around, chat
  with fellow car lovers, and maybe even discover your dream car.\r\nAl
 l show cars will be judged and the host will award up to 125 trophie
 s and placques to some of the best cars, trucks and bikes on display.
 \r\nGate opens at 8:00am.Don't miss out on this exciting opportunity 
 to see some of the most impressive vehicles in Westchester County. See
  you there!\r\n\r\n\n\nFor more information visit https://northeastwhe
 elsevents.com/events/westchester-county-car-show-2024
DTSTART:20240929T130000Z
DTEND:20240929T200000Z
CATEGORIES:carshow
LOCATION:Glen Island Park
WEBSITE:https://www.eventbrite.com/e/westchester-county-car-show-2024-
 tickets-1020862636627
URL:https://www.eventbrite.com/e/westchester-county-car-show-2024-tick
 ets-1020862636627
CONTACT:(914) 995-2000
ORGANIZER:Westchester County &amp; WSRA
ATTACH;FMTTYPE="image/jpeg":https://storage.ning.com/topology/rest/1.0
 /file/get/12950472879?profile=original
ATTENDEE;ROLE=REQ-PARTICIPANT;PARTSTAT=ACCEPTED;RSVP=TRUE;CN="William 
 Bruce":https://northeastwheelsevents.com/profile/WilliamBruce
END:VEVENT
END:VCALENDAR
