BEGIN:VCALENDAR
PRODID:NingEventWidget-v1
VERSION:2.0
METHOD:PUBLISH
BEGIN:VEVENT
UID:5167423:Event:238998
DTSTAMP:20260422T001102Z
SUMMARY:WGHSEA Spring Car Show
DESCRIPTION:William's Grove Historical Steam Engine Association Spring
  Car Show.  Featuring a DJ, door prizes, trophies.  Food vendors on 
 the grounds, free admission to antique tractor/steam show and flea mar
 ket.  \n\n$10 registration fee if paid by 5/10.  $15 Registration d
 ay of event.\n\nHeld Rain or Shine.\n\nOpen to all Antiques, Classics,
  Rods, Customs and Jeeps\n\nFor more information visit https://northea
 stwheelsevents.com/events/wghsea-spring-car-show
DTSTART:20190519T130000Z
DTEND:20190519T180000Z
CATEGORIES:car, show
LOCATION:William's Grove Historical Steam Engine Association
WEBSITE:https://www.facebook.com/events/1980060668709609/
URL:https://www.facebook.com/events/1980060668709609/
CONTACT:17173080291
ORGANIZER:Jaci Thoman
ATTACH;FMTTYPE="image/jpeg":https://storage.ning.com/topology/rest/1.0
 /file/get/1266703915?profile=original
ATTENDEE;ROLE=REQ-PARTICIPANT;PARTSTAT=ACCEPTED;RSVP=TRUE;CN="Jaci Lyn
 ne Thoman":https://northeastwheelsevents.com/profile/JaciLynneThoman
END:VEVENT
END:VCALENDAR
