BEGIN:VCALENDAR
PRODID:NingEventWidget-v1
VERSION:2.0
METHOD:PUBLISH
BEGIN:VEVENT
UID:5167423:Event:5002
DTSTAMP:20260425T073600Z
SUMMARY:Wheels and Wings Classic Auction and Car Show -Millville, NJ
DESCRIPTION:iBid Motors presents... Wheels and Wings Classic Auction a
 nd Car Show May 28th & 29th You are cordially invited to join us at th
 e 4th annual \"Wheels and Wings\" Classic Auction and Car Show This ev
 ent will be held over Memorial Day weekend, May 28th and 29th at the N
 ew Jersey Motorsports Park in Millville, N.J. from 8:00 a.m. to 6:00 p
 .m. This event will feature over 1,000 classic cars and dozens of pers
 onal and light-sport aircraft. Buyers and Sellers Wanted! *If you are 
 interested in Buying or Selling a car please, CLICK HERE! *Other even
 ts include the US Navy Blue Angels air show and the NJ Vintage Grand P
 rix! Please join us for this fun-filled event and enjoy the auction! P
 lease help us get the word out by passing this event invitation along 
 to your friends. Sincerely, Rich Bodmer President & CEO (973) 473-2400
  Rich@ibidmotors.com1200 Route 46 Clifton, NJ 07015\nClick Here For Mo
 re Information\n\nFor more information visit https://northeastwheelsev
 ents.com/events/wheels-and-wings-classic
DTSTART:20110528T120000Z
DTEND:20110529T220000Z
CATEGORIES:car, show
LOCATION:NJ Motorsports Park
WEBSITE:http://www.njmotorsportspark.com/
URL:http://www.njmotorsportspark.com/
CONTACT:973-473-2400
ORGANIZER;CN="Rich Bodmer":https://northeastwheelsevents.com/profile/R
 ichBodmer
ATTACH;FMTTYPE="image/jpeg":http://storage.ning.com/topology/rest/1.0/
 file/get/2284046898?profile=original
ATTENDEE;ROLE=REQ-PARTICIPANT;PARTSTAT=ACCEPTED;RSVP=TRUE;CN="Rich Bod
 mer":https://northeastwheelsevents.com/profile/RichBodmer
END:VEVENT
END:VCALENDAR
