BEGIN:VCALENDAR
PRODID:NingEventWidget-v1
VERSION:2.0
METHOD:PUBLISH
BEGIN:VEVENT
UID:5167423:Event:327631
DTSTAMP:20260420T135546Z
SUMMARY:Wheels at Wegmans
DESCRIPTION: Wheels at Wegmans, cruise -In returns for it's 3rd year!
   Every 1st Saturday, and 3rd Friday of the month, at Wegmans in John
 son City NY. Next Cruise-In,  Saturday, June 1 2024. Then Friday, Jun
 e 21, 2024. Special part of the lot is ropped off for Classic cars, St
 reet Rods, Motorcycles, Muscle cars, Old and New. Concessions Availabl
 e! Live Music! We started with 2 dates in May, Saturday, May, 04, 4-7p
 m, and Friday, May, 17, 2024 4-7pm. Contact Michael Button @ 607-729-7
 782 for info. Come join us at the Johnson City Store, just off I86/rt.
 17. Oakdale Mall Commons is across the street. \r\n\r\nTell him you s
 aw it on NorthEastWheelsEvents.com. \n\nFor more information visit ht
 tps://northeastwheelsevents.com/events/wheels-at-wegmans-5
DTSTART:20240621T200000Z
DTEND:20240621T230000Z
CATEGORIES:cruise, "in."
LOCATION:Johnson City Wegmans
WEBSITE:Https://wegmans.com
URL:Https://wegmans.com
CONTACT:607-729-7782
ORGANIZER:Michael Button
ATTACH;FMTTYPE="image/jpeg":https://storage.ning.com/topology/rest/1.0
 /file/get/12425254671?profile=original
ATTENDEE;ROLE=REQ-PARTICIPANT;PARTSTAT=ACCEPTED;RSVP=TRUE;CN="William 
 Bruce":https://northeastwheelsevents.com/profile/WilliamBruce
END:VEVENT
END:VCALENDAR
