BEGIN:VCALENDAR
PRODID:NingEventWidget-v1
VERSION:2.0
METHOD:PUBLISH
BEGIN:VEVENT
UID:5167423:Event:344881
DTSTAMP:20260424T094151Z
SUMMARY:Wheels at Wegmans Cars & Coffee
DESCRIPTION: Wheels at Wegmans, Cruise -In returns for it's 4th year
 !  Every 1st Saturday morning, and 3rd Friday afternoon of the month,
  at Wegmans in Johnson City NY. Our 1st Cruise-In,  of the year is CA
 RS AND COFFEE Cruise-in on Saturday, Oct. 4, 2025. 8AM-12 NOON!. Then 
 next Cruise-In is Friday,  Oct. 17 , 2025, 4-7pm. Special part of the
  lot is ropped off for Classic Cars Trucks, Street Rods, Motorcycles, 
 Muscle Cars, Old and New. Any club can come in a group. Concessions Av
 ailable! Live Music! Led by Member of Southern Tier Corvette Club. \r
 \nContact Michael Button @ 607-729-7782 for info. Come join us at the 
 Johnson City Store, just off I86/rt.17. Oakdale Mall Commons is across
  the street. \r\n\r\nTell him you saw it on NorthEastWheelsEvents.com
 .\n\nFor more information visit https://northeastwheelsevents.com/even
 ts/wheels-at-wegmans-cars-coffee-8
DTSTART:20251004T120000Z
DTEND:20251004T160000Z
CATEGORIES:"cruisein."
LOCATION:Johnson City NY Wegmans
WEBSITE:Https://wegmans.com
URL:Https://wegmans.com
CONTACT:607-729-7782
ORGANIZER:Michael Button
ATTACH;FMTTYPE="image/jpeg":https://storage.ning.com/topology/rest/1.0
 /file/get/13540401855?profile=original
ATTENDEE;ROLE=REQ-PARTICIPANT;PARTSTAT=ACCEPTED;RSVP=TRUE;CN="William 
 Bruce":https://northeastwheelsevents.com/profile/WilliamBruce
END:VEVENT
END:VCALENDAR
