BEGIN:VCALENDAR
PRODID:NingEventWidget-v1
VERSION:2.0
METHOD:PUBLISH
BEGIN:VEVENT
UID:5167423:Event:238761
DTSTAMP:20260421T224353Z
SUMMARY:Wheels for The Wheel at The Red Mill
DESCRIPTION:Wheels for the Wheel is back for its 2nd Annual Charity Fu
 nd Raiser Car Show!After raising a truly astonishing amount of money t
 oward the Water Wheel Restoration Project for the Red Mill last year, 
 we are back this year and better than before thanks to all of the feed
 back we've received!The Car Show is open to all kinds of vehicles! Fea
 turing awards for best in class and best in show, we will also be offe
 ring a 50/50, Raffles for numerous prizes including a flat screen TV p
 rovided by a local merchant and other fantastic giveaways!If you or so
 meone you know would be interested, please send an email to: wheelsfor
 thewheel@gmail.com to receive a registration form and more information
  on this years amazing event.REGISTER EARLY FOR A GUARANTEED SPOT!! $1
 5 before April 14th and $20 thereafter. Last year we sold out of pre-r
 egistration tickets days before the event!\n\nFor more information vis
 it https://northeastwheelsevents.com/events/wheels-for-the-wheel-at-th
 e-red-mill
DTSTART:20190428T140000Z
DTEND:20190428T190000Z
CATEGORIES:car, show
LOCATION:The Red Mill Museum
WEBSITE:http://www.theredmill.org
URL:http://www.theredmill.org
CONTACT:908-735-4101
ORGANIZER:Michael Rhode
ATTACH;FMTTYPE="image/jpeg":https://storage.ning.com/topology/rest/1.0
 /file/get/1238873239?profile=original
ATTENDEE;ROLE=REQ-PARTICIPANT;PARTSTAT=ACCEPTED;RSVP=TRUE;CN="Ed Rhode
 ":https://northeastwheelsevents.com/profile/EdRhode
END:VEVENT
END:VCALENDAR
