BEGIN:VCALENDAR
PRODID:NingEventWidget-v1
VERSION:2.0
METHOD:PUBLISH
BEGIN:VEVENT
UID:5167423:Event:309845
DTSTAMP:20260422T224803Z
SUMMARY:Wheels for The Wheel Charity Car Show
DESCRIPTION:This is our 6th Annual Charity Car show on Sunday May 21 f
 rom 10-3.  Show is to benefit the historic and iconic nonprofit Red M
 ill Museum Village a 501(c)3 organization.\n\nDiscount tix at www.ther
 edmill.org/events Buy Now and SAVE.\n\nAll cars, truck, makes, models,
  years, foreign or import are all ready registered and waiting.  Food
 , Ice Cream, Beer.  Something for everyone. From car buffs to kids.\n
 \nALL show vehicle spots have been reserved.\n\n\n\nFor more informati
 on visit https://northeastwheelsevents.com/events/wheels-for-the-wheel
 -charity-car-show
DTSTART:20230521T140000Z
DTEND:20230521T190000Z
CATEGORIES:car, and, truck, show, for, charity
LOCATION:The Red Mill Museum Village
WEBSITE:http://www.theredmill.org
URL:http://www.theredmill.org
CONTACT:9087354101 X101
ORGANIZER:Michael, Paul and Norma
ATTACH;FMTTYPE="image/jpeg":https://storage.ning.com/topology/rest/1.0
 /file/get/10918443459?profile=original
ATTENDEE;ROLE=REQ-PARTICIPANT;PARTSTAT=ACCEPTED;RSVP=TRUE;CN="Ed Rhode
 ":https://northeastwheelsevents.com/profile/EdRhode
END:VEVENT
END:VCALENDAR
