BEGIN:VCALENDAR
PRODID:NingEventWidget-v1
VERSION:2.0
METHOD:PUBLISH
BEGIN:VEVENT
UID:5167423:Event:249628
DTSTAMP:20260419T120111Z
SUMMARY:Wheels In ShickshinnyAuto Show
DESCRIPTION:Show is open to all vehicles & has 15 Award Categories and
  Best In Show. Food, music, door prizes, fun for all\n\nFor more infor
 mation visit https://northeastwheelsevents.com/events/wheels-in-shicks
 hinnyauto-show
DTSTART:20190727T123000Z
DTEND:20190727T200000Z
CATEGORIES:auto, show
LOCATION:Shickshinny Park
WEBSITE:
URL:
CONTACT:570-764-2315
ORGANIZER;CN="Northeast Cruisers Motor Club":https://northeastwheelsev
 ents.com/profile/NortheastCruisersMotorClub
ATTACH;FMTTYPE="image/jpeg":https://storage.ning.com/topology/rest/1.0
 /file/get/3345432091?profile=original
ATTENDEE;ROLE=REQ-PARTICIPANT;PARTSTAT=ACCEPTED;RSVP=TRUE;CN="Northeas
 t Cruisers Motor Club":https://northeastwheelsevents.com/profile/North
 eastCruisersMotorClub
END:VEVENT
END:VCALENDAR
