BEGIN:VCALENDAR
PRODID:NingEventWidget-v1
VERSION:2.0
METHOD:PUBLISH
BEGIN:VEVENT
UID:5167423:Event:260308
DTSTAMP:20260425T170639Z
SUMMARY:Wicked Effects Cruise Night
DESCRIPTION:Our monthly cruise night. Free to enter but donations welc
 omed. All donations benefit a local child with medical needs. Top 5 aw
 ards picked by our beneficiary.  50/50 raffle, basket raffle and prof
 essional DJ\n\nFor more information visit https://northeastwheelsevent
 s.com/events/wicked-effects-cruise-night
DTSTART:20200526T220000Z
DTEND:20200527T010000Z
CATEGORIES:fundraiser
LOCATION:Audio Sensations / NORCO Fire Company
WEBSITE:
URL:
CONTACT:
ORGANIZER;CN="Wicked Effects Car Club":https://northeastwheelsevents.c
 om/profile/WickedEffectsCarClub
ATTACH;FMTTYPE="image/jpeg":https://storage.ning.com/topology/rest/1.0
 /file/get/3861924295?profile=original
ATTENDEE;ROLE=REQ-PARTICIPANT;PARTSTAT=ACCEPTED;RSVP=TRUE;CN="Wicked E
 ffects Car Club":https://northeastwheelsevents.com/profile/WickedEffec
 tsCarClub
END:VEVENT
END:VCALENDAR
