BEGIN:VCALENDAR
PRODID:NingEventWidget-v1
VERSION:2.0
METHOD:PUBLISH
BEGIN:VEVENT
UID:5167423:Event:335256
DTSTAMP:20260423T205914Z
SUMMARY:Williams Toyota 🎃 Trunk-or-Treat
DESCRIPTION:Join us for our 3rd annual Trunk or Treat at the dealershi
 p!\r\nBring your kids out for a fun and safe Halloween Night! William
 s Toyota of Binghamton is hosting a Trunk or Treat event on Saturday, 
 October 26th. The event will take place from 4:00 PM to 6:00 PM at 393
  Court Street, Binghamton, NY. Businesses and community members are in
 vited to decorate their vehicles and pass out candy to children in the
  community. You can bring a classic car, truck or bike! Those interest
 ed can sign up by sending a DM or emailing Tiffany Shedden at tshedde
 n@williamsautogroup.com\n\nFor more information visit https://northeas
 twheelsevents.com/events/williams-toyota-trunk-or-treat
DTSTART:20241026T200000Z
DTEND:20241026T220000Z
CATEGORIES:carshow, trunkortreat
LOCATION:Williams Toyota of Binghamton
WEBSITE:https://www.facebook.com/events/10-valley-street-endwell-ny/3r
 d-annual-freedom-trunk-or-treat/8355525154498868/
URL:https://www.facebook.com/events/10-valley-street-endwell-ny/3rd-an
 nual-freedom-trunk-or-treat/8355525154498868/
CONTACT:607-724-1334
ORGANIZER:Williams Toyota of Binghamton
ATTACH;FMTTYPE="image/jpeg":https://storage.ning.com/topology/rest/1.0
 /file/get/13007346470?profile=original
ATTENDEE;ROLE=REQ-PARTICIPANT;PARTSTAT=ACCEPTED;RSVP=TRUE;CN="William 
 Bruce":https://northeastwheelsevents.com/profile/WilliamBruce
END:VEVENT
END:VCALENDAR
