BEGIN:VCALENDAR
PRODID:NingEventWidget-v1
VERSION:2.0
METHOD:PUBLISH
BEGIN:VEVENT
UID:5167423:Event:37677
DTSTAMP:20260424T085932Z
SUMMARY:Williamsburg British Car Club's 2014 15th Annual British and E
 uropean Car Show
DESCRIPTION:Open the 2014 car show season and visit beautiful Colonial
  Williamsburg Virginia for the 15th Annual Williamsburg British Car Cl
 ub British and European Car Show at Chickahominy Riverfront Park next 
 to the intersection of the James and Chickahominy Rivers. Camping avai
 lable thru James City County. Registration form on our website.\n\nThe
  Williamsburg British Car Club 15th Annual British and European Car Sh
 owon April 12th, 2014(Sat)at Chickahominy Riverfront Park1350 John Tyl
 er Highway(Rt5)Williamsburg, VA 23185web site - WBCC2014carregistrati
 onflyerdoc.docregistration form on website-$20 pre-registration, $25 d
 ay of showcontact – Roy Gavilanrgavilan@verizon.net or rgmgb65@hotma
 il.com757-220-4774\nThanks, Roy Gavilan - Registration\n\nFor more inf
 ormation visit https://northeastwheelsevents.com/events/williamsburg-b
 ritish-car-club-s-2014-15th-annual-british-and
DTSTART:20140412T130000Z
DTEND:20140412T190000Z
CATEGORIES:car, show
LOCATION:Chickahominy Riverfront Park
WEBSITE:http://www.wmbgbrit.com/
URL:http://www.wmbgbrit.com/
CONTACT:7572204774
ORGANIZER;CN="Roy Gavilan":https://northeastwheelsevents.com/profile/R
 oyGavilan
ATTACH;FMTTYPE="image/jpeg":http://storage.ning.com/topology/rest/1.0/
 file/get/2284062665?profile=original
ATTENDEE;ROLE=REQ-PARTICIPANT;PARTSTAT=ACCEPTED;RSVP=TRUE;CN="Roy Gavi
 lan":https://northeastwheelsevents.com/profile/RoyGavilan
END:VEVENT
END:VCALENDAR
