BEGIN:VCALENDAR
PRODID:NingEventWidget-v1
VERSION:2.0
METHOD:PUBLISH
BEGIN:VEVENT
UID:5167423:Event:233043
DTSTAMP:20260419T122322Z
SUMMARY:Wilson Borough Lions Club 6th Annual \"Shine 'n Show
DESCRIPTION:Featuring \"/Camaro, Yesterday to Today\"\nBenefits Lehigh
  Valley \"Battle Borne\" Veterans\nONLY $10.00 pre-registration $15.00
  day of show\nSponsor Trophies awarded (20 or more)\nAwards for best 1
 0 yr. sequence in Camaros\nOpen to all vehicles, new, old, modern, ant
 ique, classic, hot rods, trucks, motorcycles, rat rods \nT-Shirt and 
 Dash plaque to the first 50 pre-registered \nRegistration opens at  
 8:30 AM\n\n\nFor more information visit https://northeastwheelsevents.
 com/events/wilson-borough-lions-club-6th-annual-shine-n-show
DTSTART:20190727T140000Z
DTEND:20190727T190000Z
CATEGORIES:car, show
LOCATION:Wilson Are High School, Easton, PA 18042
WEBSITE:https://www.google.com/maps/dir//40.6854889,-75.2447924/@40.68
 42034,-75.2462998,17z/data=!4m2!4m1!3e0
URL:https://www.google.com/maps/dir//40.6854889,-75.2447924/@40.684203
 4,-75.2462998,17z/data=!4m2!4m1!3e0
CONTACT:610-258-2185 or 610-972-0707
ORGANIZER:Paul Corriere
ATTACH;FMTTYPE="image/jpeg":https://storage.ning.com/topology/rest/1.0
 /file/get/961412226?profile=original
ATTENDEE;ROLE=REQ-PARTICIPANT;PARTSTAT=ACCEPTED;RSVP=TRUE;CN="Len Fein
 berg":https://northeastwheelsevents.com/profile/LenFeinberg
END:VEVENT
END:VCALENDAR
