BEGIN:VCALENDAR
PRODID:NingEventWidget-v1
VERSION:2.0
METHOD:PUBLISH
BEGIN:VEVENT
UID:5167423:Event:294845
DTSTAMP:20260425T154033Z
SUMMARY:Winter Carlisle Auto Expo
DESCRIPTION:Brand-new in 2022, Winter Carlisle Auto Expo is a two-day 
 flea market sale of collector car automotive parts, collectibles, and 
 car corral at the Carlisle Expo Center in Carlisle, Pennsylvania. Wint
 er Carlisle Auto Expo is an automotive treasure hunt to locate everyth
 ing you need to prepare for your winter projects! The 150+ spaces show
 case parts, services, new products, memorabilia items, tires, accessor
 ies, car care products, tools, vintage advertising, collectibles and s
 o much more. \n\nFor more information visit https://northeastwheelsev
 ents.com/events/winter-carlisle-auto-expo
DTSTART:20220128T170000Z
DTEND:20220129T230000Z
CATEGORIES:swap, meet
LOCATION:Carlisle Expo Center
WEBSITE:https://carlisleevents.com/events/events-detail/index?id=winte
 r+carlisle
URL:https://carlisleevents.com/events/events-detail/index?id=winter+ca
 rlisle
CONTACT:717-243-7855
ORGANIZER:Carlisle Events
ATTACH;FMTTYPE="image/jpeg":https://storage.ning.com/topology/rest/1.0
 /file/get/9680784662?profile=original
ATTENDEE;ROLE=REQ-PARTICIPANT;PARTSTAT=ACCEPTED;RSVP=TRUE;CN="Carlisle
  Events":https://northeastwheelsevents.com/profile/MichaelGarland
END:VEVENT
END:VCALENDAR
