BEGIN:VCALENDAR
PRODID:NingEventWidget-v1
VERSION:2.0
METHOD:PUBLISH
BEGIN:VEVENT
UID:5167423:Event:137044
DTSTAMP:20260424T064935Z
SUMMARY:Wolf Chase Rally Cross Ludlow VT
DESCRIPTION:NER RallyCross returns to Barker Farm in Ludlow, Vermont o
 n Saturday, December 3, 2016 for the final event of the 2016 Rallycros
 s Championship season.The surface is grass and dirt in a hay field. Si
 nce a major photovoltaic array is planned for this site, we may be hav
 ing our last Wolf Chase RX at the Barker Farm. Don't miss history in t
 he making. Come to the scenic hills of VT for some rallycross action i
 n early December.A lunch will be served in the barn at the farm as in 
 years past. Please bring cash for the folks who make and sell lunch fo
 r us.The on line entry deadline is Wednesday, November 30. The farm ha
 s asked for a rough head count for food the weekend before so please s
 ign up early. Pre-register now and you won't be charged until that we
 ekend\n\nFor more information visit https://northeastwheelsevents.com/
 events/wolf-chase-rally-cross-ludlow-vt
DTSTART:20161203T120000Z
DTEND:20161203T210000Z
CATEGORIES:rally, cross
LOCATION:Baker Farm Ludlow VT
WEBSITE:https://www.facebook.com/events/1142648115819416/
URL:https://www.facebook.com/events/1142648115819416/
CONTACT:rallyxreg@ner.org
ORGANIZER:New England Region SCCA
ATTACH;FMTTYPE="image/jpeg":http://storage.ning.com/topology/rest/1.0/
 file/get/2284091427?profile=original
ATTENDEE;ROLE=REQ-PARTICIPANT;PARTSTAT=ACCEPTED;RSVP=TRUE;CN="Pamela H
 irschhorn":https://northeastwheelsevents.com/profile/PamelaHirschhorn
END:VEVENT
END:VCALENDAR
