BEGIN:VCALENDAR
PRODID:NingEventWidget-v1
VERSION:2.0
METHOD:PUBLISH
BEGIN:VEVENT
UID:5167423:Event:334603
DTSTAMP:20260421T062441Z
SUMMARY:World Auto Group Presents: Exotic Car Show
DESCRIPTION:Drive on over for an exhilarating celebration of speed, lu
 xury, and innovation at our all NEW state-of-the-art dealership, Audi 
 Newton.\r\nAudi Newton is thrilled to invite you to an exclusive event
  celebrating the pinnacle of luxury and performance in exotic cars. Im
 merse yourself in the allure of high-performance vehicles, network wit
 h fellow car enthusiasts, and indulge in delicious food.\r\n\r\nDate:
 Sunday, October 6th, 2024\r\nTime: 11:00 AM - 1:00 PM\r\nLocation: 
 Audi Newton, 66 Hampton House Road, Newton, NJ 07860*\r\n\r\nEvent Hi
 ghlights:\r\n🏁 Exotic car galore!\r\n🏁 Tour our all NEW state-of
 -the-art dealership!\r\n🏁 Live music by iHeartRadio DJ, Steve Allan
 \r\n🏁 Food & refreshments courtesy of local food trucks\r\n🏁 Non
 -perishable food and monetary donations will be collected on behalf of
  iHeart & Stuff the Bus to benefit all Sussex County Food Pantries.\r\
 n\r\nWe look forward to seeing you there!\n\nFor more information visi
 t https://northeastwheelsevents.com/events/world-auto-group-presents-e
 xotic-car-show
DTSTART:20241006T150000Z
DTEND:20241006T170000Z
CATEGORIES:carshow, benefit
LOCATION:Audi Newton
WEBSITE:https://www.eventbrite.com/e/world-auto-group-presents-exotic-
 car-show-tickets-1013820052067
URL:https://www.eventbrite.com/e/world-auto-group-presents-exotic-car-
 show-tickets-1013820052067
CONTACT:+1 973-756-3100
ORGANIZER:World Auto Group
ATTACH;FMTTYPE="image/jpeg":https://storage.ning.com/topology/rest/1.0
 /file/get/12958805070?profile=original
ATTENDEE;ROLE=REQ-PARTICIPANT;PARTSTAT=ACCEPTED;RSVP=TRUE;CN="William 
 Bruce":https://northeastwheelsevents.com/profile/WilliamBruce
END:VEVENT
END:VCALENDAR
